BEGIN:VCALENDAR
VERSION:2.0
PRODID:-//Burbank Fire Corps - ECPv6.15.13.1//NONSGML v1.0//EN
CALSCALE:GREGORIAN
METHOD:PUBLISH
X-ORIGINAL-URL:https://burbankfirecorps.org
X-WR-CALDESC:Events for Burbank Fire Corps
REFRESH-INTERVAL;VALUE=DURATION:PT1H
X-Robots-Tag:noindex
X-PUBLISHED-TTL:PT1H
BEGIN:VTIMEZONE
TZID:America/Los_Angeles
BEGIN:DAYLIGHT
TZOFFSETFROM:-0800
TZOFFSETTO:-0700
TZNAME:PDT
DTSTART:20240310T100000
END:DAYLIGHT
BEGIN:STANDARD
TZOFFSETFROM:-0700
TZOFFSETTO:-0800
TZNAME:PST
DTSTART:20241103T090000
END:STANDARD
BEGIN:DAYLIGHT
TZOFFSETFROM:-0800
TZOFFSETTO:-0700
TZNAME:PDT
DTSTART:20250309T100000
END:DAYLIGHT
BEGIN:STANDARD
TZOFFSETFROM:-0700
TZOFFSETTO:-0800
TZNAME:PST
DTSTART:20251102T090000
END:STANDARD
BEGIN:DAYLIGHT
TZOFFSETFROM:-0800
TZOFFSETTO:-0700
TZNAME:PDT
DTSTART:20260308T100000
END:DAYLIGHT
BEGIN:STANDARD
TZOFFSETFROM:-0700
TZOFFSETTO:-0800
TZNAME:PST
DTSTART:20261101T090000
END:STANDARD
BEGIN:DAYLIGHT
TZOFFSETFROM:-0800
TZOFFSETTO:-0700
TZNAME:PDT
DTSTART:20270314T100000
END:DAYLIGHT
BEGIN:STANDARD
TZOFFSETFROM:-0700
TZOFFSETTO:-0800
TZNAME:PST
DTSTART:20271107T090000
END:STANDARD
END:VTIMEZONE
BEGIN:VEVENT
DTSTART;TZID=America/Los_Angeles:20250823T080000
DTEND;TZID=America/Los_Angeles:20250823T150000
DTSTAMP:20260422T215659
CREATED:20250315T015709Z
LAST-MODIFIED:20250315T015721Z
UID:10000023-1755936000-1755961200@burbankfirecorps.org
SUMMARY:Annual Drill 2025
DESCRIPTION:The Burbank Fire Corps Program (BFCP) will be conducting our Annual Drill to assess our team’s operational readiness. This exercise provides a critical opportunity for volunteers to practice and refine their skills in a simulated emergency scenario\, ensuring our preparedness for real-world situations. \nThis drill will incorporate multiple missions\, allowing volunteers to engage in various roles and responsibilities\, leveraging as many BFCP core capabilities as possible. The training will focus on team coordination\, communication\, and response operations to evaluate overall effectiveness and readiness. \nParticipation: \n\nOpen to all registered BFCP volunteers\nVolunteers will receive deployment instructions prior to the exercise\nThis drill will simulate realistic emergency conditions\, requiring volunteers to operate as they would in an actual activation\n\nThis is a key training event for all BFCP volunteers and plays a vital role in maintaining our operational capabilities. Your participation is highly encouraged to help strengthen our team’s effectiveness and preparedness.
URL:https://burbankfirecorps.org/event/annual-drill-2025/
LOCATION:CA
CATEGORIES:BFCP Members Only
END:VEVENT
BEGIN:VEVENT
DTSTART;TZID=America/Los_Angeles:20260110T080000
DTEND;TZID=America/Los_Angeles:20260110T170000
DTSTAMP:20260422T215659
CREATED:20260108T070249Z
LAST-MODIFIED:20260108T070304Z
UID:10000112-1768032000-1768064400@burbankfirecorps.org
SUMMARY:Work Day at the FTC
DESCRIPTION:Apologies for the late notice\, but we’re hosting a work day at the Fire Training Center (FTC) this Saturday from 9:30 AM to 1:00 PM\, and we’d love to have your help! \nWe’ll be working on clearing out one of the trailers as we prepare to operationalize it into what will become an EOC on Wheels. This will be a mobile\, ready-to-deploy resource for future operations and events—and it’s one of several exciting initiatives you’ll be hearing more about at this month’s meeting. \nIf you’re available and looking for a productive way to spend your Saturday\, come join us\, lend a hand\, and help move this project forward. Many hands make light work—and this is a great chance to make a tangible impact on our operational readiness.
URL:https://burbankfirecorps.org/event/work-day-at-the-ftc/
LOCATION:Burbank Fire Training Center\, 1845 N Ontario St\, Burbank\, CA\, 91505\, United States
CATEGORIES:BFCP Members Only
END:VEVENT
END:VCALENDAR